BEGIN:VCALENDAR
VERSION:2.0
PRODID:-//Pikes Peak VMCCA - ECPv6.15.20//NONSGML v1.0//EN
CALSCALE:GREGORIAN
METHOD:PUBLISH
X-WR-CALNAME:Pikes Peak VMCCA
X-ORIGINAL-URL:https://ppvmcca.com
X-WR-CALDESC:Events for Pikes Peak VMCCA
REFRESH-INTERVAL;VALUE=DURATION:PT1H
X-Robots-Tag:noindex
X-PUBLISHED-TTL:PT1H
BEGIN:VTIMEZONE
TZID:America/Denver
BEGIN:DAYLIGHT
TZOFFSETFROM:-0700
TZOFFSETTO:-0600
TZNAME:MDT
DTSTART:20250309T090000
END:DAYLIGHT
BEGIN:STANDARD
TZOFFSETFROM:-0600
TZOFFSETTO:-0700
TZNAME:MST
DTSTART:20251102T080000
END:STANDARD
BEGIN:DAYLIGHT
TZOFFSETFROM:-0700
TZOFFSETTO:-0600
TZNAME:MDT
DTSTART:20260308T090000
END:DAYLIGHT
BEGIN:STANDARD
TZOFFSETFROM:-0600
TZOFFSETTO:-0700
TZNAME:MST
DTSTART:20261101T080000
END:STANDARD
BEGIN:DAYLIGHT
TZOFFSETFROM:-0700
TZOFFSETTO:-0600
TZNAME:MDT
DTSTART:20270314T090000
END:DAYLIGHT
BEGIN:STANDARD
TZOFFSETFROM:-0600
TZOFFSETTO:-0700
TZNAME:MST
DTSTART:20271107T080000
END:STANDARD
END:VTIMEZONE
BEGIN:VEVENT
DTSTART;TZID=America/Denver:20260313T180000
DTEND;TZID=America/Denver:20260313T210000
DTSTAMP:20260416T175300
CREATED:20260102T160814Z
LAST-MODIFIED:20260205T234955Z
UID:5434-1773424800-1773435600@ppvmcca.com
SUMMARY:Mar General Meeting and Club Potluck
DESCRIPTION:Colorado Springs Youth Symphony Facility – Thank You Shannon!
URL:https://ppvmcca.com/event/mar-general-meeting-and-club-potluck/
LOCATION:Youth Symphony Building\, 3113 Primrose\, Colorado Springs\, CO\, 80907\, United States
END:VEVENT
BEGIN:VEVENT
DTSTART;TZID=America/Denver:20260314T080000
DTEND;TZID=America/Denver:20260314T120000
DTSTAMP:20260416T175300
CREATED:20260207T162616Z
LAST-MODIFIED:20260208T023734Z
UID:5527-1773475200-1773489600@ppvmcca.com
SUMMARY:Saint Patrick's Day Parade
DESCRIPTION:Contact Shannon Jones to sign up.  The parade starts at noon.  Lineup information for our club’s cars will be published when available.
URL:https://ppvmcca.com/event/saint-patricks-day-parade/
END:VEVENT
BEGIN:VEVENT
DTSTART;TZID=America/Denver:20260325T180000
DTEND;TZID=America/Denver:20260325T200000
DTSTAMP:20260416T175300
CREATED:20260102T162433Z
LAST-MODIFIED:20260205T233932Z
UID:5452-1774461600-1774468800@ppvmcca.com
SUMMARY:Pizza Night
DESCRIPTION:
URL:https://ppvmcca.com/event/pizza-night-18/
LOCATION:Leon Gessi\, 1806 Palmer Park Blvd\, Colorado Springs\, 80909\, United States
END:VEVENT
END:VCALENDAR