BEGIN:VCALENDAR
VERSION:2.0
PRODID:-//Pikes Peak VMCCA - ECPv6.15.20//NONSGML v1.0//EN
CALSCALE:GREGORIAN
METHOD:PUBLISH
X-ORIGINAL-URL:https://ppvmcca.com
X-WR-CALDESC:Events for Pikes Peak VMCCA
REFRESH-INTERVAL;VALUE=DURATION:PT1H
X-Robots-Tag:noindex
X-PUBLISHED-TTL:PT1H
BEGIN:VTIMEZONE
TZID:America/Denver
BEGIN:DAYLIGHT
TZOFFSETFROM:-0700
TZOFFSETTO:-0600
TZNAME:MDT
DTSTART:20240310T090000
END:DAYLIGHT
BEGIN:STANDARD
TZOFFSETFROM:-0600
TZOFFSETTO:-0700
TZNAME:MST
DTSTART:20241103T080000
END:STANDARD
BEGIN:DAYLIGHT
TZOFFSETFROM:-0700
TZOFFSETTO:-0600
TZNAME:MDT
DTSTART:20250309T090000
END:DAYLIGHT
BEGIN:STANDARD
TZOFFSETFROM:-0600
TZOFFSETTO:-0700
TZNAME:MST
DTSTART:20251102T080000
END:STANDARD
BEGIN:DAYLIGHT
TZOFFSETFROM:-0700
TZOFFSETTO:-0600
TZNAME:MDT
DTSTART:20260308T090000
END:DAYLIGHT
BEGIN:STANDARD
TZOFFSETFROM:-0600
TZOFFSETTO:-0700
TZNAME:MST
DTSTART:20261101T080000
END:STANDARD
END:VTIMEZONE
BEGIN:VEVENT
DTSTART;TZID=America/Denver:20250704T080000
DTEND;TZID=America/Denver:20250704T170000
DTSTAMP:20260416T170434
CREATED:20250501T144113Z
LAST-MODIFIED:20250603T144038Z
UID:5258-1751616000-1751648400@ppvmcca.com
SUMMARY:WWII Aviation Museum
DESCRIPTION:National Museum of World War II Aviation annual July 4th celebration. Enjoy leisurely visits to all the displays\, check out the airplanes up close\, participate in any and all activities\, watch the antique aircraft soar! Contact Weldon Shaver\, club president\, if interested.
URL:https://ppvmcca.com/event/wwii-aviation-museum/
LOCATION:WW II Aviation Museum\, 775 Aviation Way\, Colorado Springs\, 80914\, United States
END:VEVENT
BEGIN:VEVENT
DTSTART;TZID=America/Denver:20250705T100000
DTEND;TZID=America/Denver:20250705T170000
DTSTAMP:20260416T170434
CREATED:20250501T144248Z
LAST-MODIFIED:20250603T144643Z
UID:5260-1751709600-1751734800@ppvmcca.com
SUMMARY:Rodeo Parade
DESCRIPTION:July 5\, Saturday – Pikes Peak or Bust Rodeo Parade. Staging will begin at 10:00 a.m. on Saturday\, July 5th. Check with Sandy Boese for details.
URL:https://ppvmcca.com/event/rodeo-parade-2/
END:VEVENT
BEGIN:VEVENT
DTSTART;TZID=America/Denver:20250711T190000
DTEND;TZID=America/Denver:20250711T220000
DTSTAMP:20260416T170434
CREATED:20250101T231800Z
LAST-MODIFIED:20250603T145137Z
UID:4488-1752260400-1752271200@ppvmcca.com
SUMMARY:Jul General Meeting
DESCRIPTION:CHANGE we will NOT meet at Gold Hill. Meeting will be at Rampart Supply – thanks to James Perry for the hospitality.
URL:https://ppvmcca.com/event/jul-general-meeting/
LOCATION:Rampart Supply\, 1801 N. Union\, Colo\, CO\, 80909\, United States
END:VEVENT
BEGIN:VEVENT
DTSTART;TZID=America/Denver:20250713T080000
DTEND;TZID=America/Denver:20250713T170000
DTSTAMP:20260416T170434
CREATED:20250603T145333Z
LAST-MODIFIED:20250603T145333Z
UID:5329-1752393600-1752426000@ppvmcca.com
SUMMARY:El Paso County Car Show
DESCRIPTION:July 13 non PPVMCCA El Paso County Fair Car Show. Contact Samantha Baker 303-726-2826
URL:https://ppvmcca.com/event/el-paso-county-car-show/
END:VEVENT
BEGIN:VEVENT
DTSTART;TZID=America/Denver:20250723T183000
DTEND;TZID=America/Denver:20250723T200000
DTSTAMP:20260416T170434
CREATED:20250501T154121Z
LAST-MODIFIED:20250501T154121Z
UID:5273-1753295400-1753300800@ppvmcca.com
SUMMARY:Pizza Night
DESCRIPTION:Pizza nights at Filmore Pizza fourth Wednesdays 6:30 pm or as noted in future newsletters.
URL:https://ppvmcca.com/event/pizza-night-12/
LOCATION:Fillmore Pizza Kitchen\, 3150 N Chestnut St\, Colorado Springs\, CO\, 80907\, United States
END:VEVENT
END:VCALENDAR