BEGIN:VCALENDAR
VERSION:2.0
PRODID:-//Pikes Peak VMCCA - ECPv6.15.20//NONSGML v1.0//EN
CALSCALE:GREGORIAN
METHOD:PUBLISH
X-WR-CALNAME:Pikes Peak VMCCA
X-ORIGINAL-URL:https://ppvmcca.com
X-WR-CALDESC:Events for Pikes Peak VMCCA
REFRESH-INTERVAL;VALUE=DURATION:PT1H
X-Robots-Tag:noindex
X-PUBLISHED-TTL:PT1H
BEGIN:VTIMEZONE
TZID:America/Denver
BEGIN:DAYLIGHT
TZOFFSETFROM:-0700
TZOFFSETTO:-0600
TZNAME:MDT
DTSTART:20230312T090000
END:DAYLIGHT
BEGIN:STANDARD
TZOFFSETFROM:-0600
TZOFFSETTO:-0700
TZNAME:MST
DTSTART:20231105T080000
END:STANDARD
BEGIN:DAYLIGHT
TZOFFSETFROM:-0700
TZOFFSETTO:-0600
TZNAME:MDT
DTSTART:20240310T090000
END:DAYLIGHT
BEGIN:STANDARD
TZOFFSETFROM:-0600
TZOFFSETTO:-0700
TZNAME:MST
DTSTART:20241103T080000
END:STANDARD
BEGIN:DAYLIGHT
TZOFFSETFROM:-0700
TZOFFSETTO:-0600
TZNAME:MDT
DTSTART:20250309T090000
END:DAYLIGHT
BEGIN:STANDARD
TZOFFSETFROM:-0600
TZOFFSETTO:-0700
TZNAME:MST
DTSTART:20251102T080000
END:STANDARD
END:VTIMEZONE
BEGIN:VEVENT
DTSTART;TZID=America/Denver:20241001T080000
DTEND;TZID=America/Denver:20241001T150000
DTSTAMP:20260418T110048
CREATED:20240917T140509Z
LAST-MODIFIED:20240917T140509Z
UID:2410-1727769600-1727794800@ppvmcca.com
SUMMARY:Touch a Truck
DESCRIPTION:Contact AJ Johnsen to sign up. \nHere are the details: \nConrad Early Learning Center is home to an early intervention preschool program within Fountain-Fort Carson School District 8. Between our morning and afternoon sessions\, there are approximately 370 students\, ages three thru five\, enrolled at Conrad ELC. \nFor Federal Student Count Day\, we are excited to announce our 3rd annual “Touch-a-Truck” family event during the school day for both AM and PM sessions. We are also encouraging parent involvement\, as well as high student attendance. \nOur parking lot will be coned off for the trucks on display. Parents\, staff and students will visit the trucks displayed to touch the truck\, ask questions\, and look inside the vehicle. \nIf you or your company would be interested and have available vehicles\, we would appreciate volunteers.\nThe details are as follows:\n● Tuesday\, October 1\, 2024 from 8 am-3 pm\n● Setup 8-8:30 am\n● Classes tour 8:45 am-2:45 pm\n● Breakdown at 3 pm\n● Pizza lunch provided\n● You are welcome to hand out promotional materials for your company\n● Please bring a Driver’s license or military ID to scan for a visitor’s sticker
URL:https://ppvmcca.com/event/touch-a-truck/
END:VEVENT
BEGIN:VEVENT
DTSTART;TZID=America/Denver:20241006T113000
DTEND;TZID=America/Denver:20241006T170000
DTSTAMP:20260418T110048
CREATED:20240930T124059Z
LAST-MODIFIED:20240930T124059Z
UID:2436-1728214200-1728234000@ppvmcca.com
SUMMARY:Color Tour 2024
DESCRIPTION:Meet at 11:30 for Lunch at Rudy’s BBQ. Then up the Pass to Cripple Creek – but once you see Cripple Creek at the bottom of the hill be ready to pull into the Cripple Creek Heritage Center about halfway down the hill [or up if you missed it]. POC Weldon Shaver.
URL:https://ppvmcca.com/event/color-tour-2024/
LOCATION:Rudy’s BBQ\, 315 S. 31 St Street\, Colorado Springs\, CO\, 80904\, United States
END:VEVENT
BEGIN:VEVENT
DTSTART;TZID=America/Denver:20241023T183000
DTEND;TZID=America/Denver:20241023T203000
DTSTAMP:20260418T110048
CREATED:20240604T151812Z
LAST-MODIFIED:20240604T151812Z
UID:2149-1729708200-1729715400@ppvmcca.com
SUMMARY:Pizza Night
DESCRIPTION:
URL:https://ppvmcca.com/event/pizza-night-6/
LOCATION:Fillmore Pizza Kitchen\, 3150 N Chestnut St\, Colorado Springs\, CO\, 80907\, United States
END:VEVENT
END:VCALENDAR