BEGIN:VCALENDAR
VERSION:2.0
PRODID:-//Pikes Peak VMCCA - ECPv6.15.20//NONSGML v1.0//EN
CALSCALE:GREGORIAN
METHOD:PUBLISH
X-ORIGINAL-URL:https://ppvmcca.com
X-WR-CALDESC:Events for Pikes Peak VMCCA
REFRESH-INTERVAL;VALUE=DURATION:PT1H
X-Robots-Tag:noindex
X-PUBLISHED-TTL:PT1H
BEGIN:VTIMEZONE
TZID:UTC
BEGIN:STANDARD
TZOFFSETFROM:+0000
TZOFFSETTO:+0000
TZNAME:UTC
DTSTART:20220101T000000
END:STANDARD
END:VTIMEZONE
BEGIN:VTIMEZONE
TZID:America/Denver
BEGIN:DAYLIGHT
TZOFFSETFROM:-0700
TZOFFSETTO:-0600
TZNAME:MDT
DTSTART:20220313T090000
END:DAYLIGHT
BEGIN:STANDARD
TZOFFSETFROM:-0600
TZOFFSETTO:-0700
TZNAME:MST
DTSTART:20221106T080000
END:STANDARD
BEGIN:DAYLIGHT
TZOFFSETFROM:-0700
TZOFFSETTO:-0600
TZNAME:MDT
DTSTART:20230312T090000
END:DAYLIGHT
BEGIN:STANDARD
TZOFFSETFROM:-0600
TZOFFSETTO:-0700
TZNAME:MST
DTSTART:20231105T080000
END:STANDARD
BEGIN:DAYLIGHT
TZOFFSETFROM:-0700
TZOFFSETTO:-0600
TZNAME:MDT
DTSTART:20240310T090000
END:DAYLIGHT
BEGIN:STANDARD
TZOFFSETFROM:-0600
TZOFFSETTO:-0700
TZNAME:MST
DTSTART:20241103T080000
END:STANDARD
END:VTIMEZONE
BEGIN:VEVENT
DTSTART;TZID=UTC:20231001T080000
DTEND;TZID=UTC:20231231T170000
DTSTAMP:20260421T214055
CREATED:20230325T205700Z
LAST-MODIFIED:20230327T033144Z
UID:680-1696147200-1704042000@ppvmcca.com
SUMMARY:Pikes Peak VMCCA 2024 Dues
DESCRIPTION:Click the Website link below to pay your 2024 PPVMCCA Dues online via Stripe.
URL:https://ppvmcca.com/event/pikes-peak-vmcca-2024-dues/
LOCATION:Virtual
END:VEVENT
BEGIN:VEVENT
DTSTART;TZID=UTC:20231110T190000
DTEND;TZID=UTC:20231110T210000
DTSTAMP:20260421T214056
CREATED:20230225T040649Z
LAST-MODIFIED:20231109T123010Z
UID:585-1699642800-1699650000@ppvmcca.com
SUMMARY:General Membership Meeting
DESCRIPTION:Pie Night!  Bring your favorite pie to share!
URL:https://ppvmcca.com/event/general-membership-meeting-4/
LOCATION:Goldhill Police Station\, 955 West Moreno Ave.\, Colorado Springs\, CO\, 80905\, United States
CATEGORIES:Meetings
END:VEVENT
BEGIN:VEVENT
DTSTART;TZID=America/Denver:20231129T183000
DTEND;TZID=America/Denver:20231129T203000
DTSTAMP:20260421T214056
CREATED:20231019T152302Z
LAST-MODIFIED:20231019T152302Z
UID:1158-1701282600-1701289800@ppvmcca.com
SUMMARY:Pizza Night - One time day change due to Thanksgiving
DESCRIPTION:Fillmore Pizza Kitchen. \n3150 N Chestnut St\,\nColorado Springs\, CO 80907
URL:https://ppvmcca.com/event/pizza-night-one-time-day-change-due-to-thanksgiving/
END:VEVENT
END:VCALENDAR