BEGIN:VCALENDAR
VERSION:2.0
PRODID:-//Pikes Peak VMCCA - ECPv6.15.20//NONSGML v1.0//EN
CALSCALE:GREGORIAN
METHOD:PUBLISH
X-ORIGINAL-URL:https://ppvmcca.com
X-WR-CALDESC:Events for Pikes Peak VMCCA
REFRESH-INTERVAL;VALUE=DURATION:PT1H
X-Robots-Tag:noindex
X-PUBLISHED-TTL:PT1H
BEGIN:VTIMEZONE
TZID:UTC
BEGIN:STANDARD
TZOFFSETFROM:+0000
TZOFFSETTO:+0000
TZNAME:UTC
DTSTART:20220101T000000
END:STANDARD
END:VTIMEZONE
BEGIN:VTIMEZONE
TZID:America/Denver
BEGIN:DAYLIGHT
TZOFFSETFROM:-0700
TZOFFSETTO:-0600
TZNAME:MDT
DTSTART:20220313T090000
END:DAYLIGHT
BEGIN:STANDARD
TZOFFSETFROM:-0600
TZOFFSETTO:-0700
TZNAME:MST
DTSTART:20221106T080000
END:STANDARD
BEGIN:DAYLIGHT
TZOFFSETFROM:-0700
TZOFFSETTO:-0600
TZNAME:MDT
DTSTART:20230312T090000
END:DAYLIGHT
BEGIN:STANDARD
TZOFFSETFROM:-0600
TZOFFSETTO:-0700
TZNAME:MST
DTSTART:20231105T080000
END:STANDARD
BEGIN:DAYLIGHT
TZOFFSETFROM:-0700
TZOFFSETTO:-0600
TZNAME:MDT
DTSTART:20240310T090000
END:DAYLIGHT
BEGIN:STANDARD
TZOFFSETFROM:-0600
TZOFFSETTO:-0700
TZNAME:MST
DTSTART:20241103T080000
END:STANDARD
END:VTIMEZONE
BEGIN:VEVENT
DTSTART;TZID=UTC:20230805T110000
DTEND;TZID=UTC:20230805T140000
DTSTAMP:20260422T022303
CREATED:20230601T201456Z
LAST-MODIFIED:20230601T201456Z
UID:860-1691233200-1691244000@ppvmcca.com
SUMMARY:Annual Picnic at Lake George Community Park
DESCRIPTION:The annual picnic is August 5th so get signed up with either Lavonne or Elsie. \nLavonne – mtnroyal@gmail.com\nElsie – celsec3235@aol.com
URL:https://ppvmcca.com/event/annual-picnic-at-lake-george-community-park/
END:VEVENT
BEGIN:VEVENT
DTSTART;TZID=America/Denver:20230812T090000
DTEND;TZID=America/Denver:20230812T120000
DTSTAMP:20260422T022303
CREATED:20230809T025912Z
LAST-MODIFIED:20230809T025936Z
UID:981-1691830800-1691841600@ppvmcca.com
SUMMARY:Black Forest Parade
DESCRIPTION:Parade Check-in will be on the south side of Shoup road just west of Herring. Please enter at Shoup and Herring to check in. Check in will begin at 9:00 AM with the parade starting at 10:30. The website has a current map of the parade route as well as other events for the day.  2023 Black Forest Festival Schedule – https://weareblackforest.com/2023-black-forest-festival-schedule/\n      The parade will line up along Shoup Rd. The parade route this year is from Shoup going north on Black Forest Rd to Trappers Pass.
URL:https://ppvmcca.com/event/black-forest-parade/
END:VEVENT
BEGIN:VEVENT
DTSTART;TZID=America/Denver:20230826T130000
DTEND;TZID=America/Denver:20230826T150000
DTSTAMP:20260422T022303
CREATED:20230809T030513Z
LAST-MODIFIED:20230809T030717Z
UID:985-1693054800-1693062000@ppvmcca.com
SUMMARY:Bonaventure Senior Living Car Show
DESCRIPTION:Bonaventure of Colorado Springs\nhttps://colorado-springs-colorado.bonaventuresenior.com/\n9112 Grand Cordera Pkwy\, Colorado Springs\, CO 80924\n(719) 434-5230
URL:https://ppvmcca.com/event/bonaventure-senior-living-car-show/
END:VEVENT
END:VCALENDAR