BEGIN:VCALENDAR
VERSION:2.0
PRODID:-//Pikes Peak VMCCA - ECPv6.15.20//NONSGML v1.0//EN
CALSCALE:GREGORIAN
METHOD:PUBLISH
X-WR-CALNAME:Pikes Peak VMCCA
X-ORIGINAL-URL:https://ppvmcca.com
X-WR-CALDESC:Events for Pikes Peak VMCCA
REFRESH-INTERVAL;VALUE=DURATION:PT1H
X-Robots-Tag:noindex
X-PUBLISHED-TTL:PT1H
BEGIN:VTIMEZONE
TZID:UTC
BEGIN:STANDARD
TZOFFSETFROM:+0000
TZOFFSETTO:+0000
TZNAME:UTC
DTSTART:20220101T000000
END:STANDARD
END:VTIMEZONE
BEGIN:VEVENT
DTSTART;TZID=UTC:20230611T100000
DTEND;TZID=UTC:20230611T140000
DTSTAMP:20260422T052350
CREATED:20230521T204217Z
LAST-MODIFIED:20230523T073254Z
UID:835-1686477600-1686492000@ppvmcca.com
SUMMARY:VA Hospital Car Show
DESCRIPTION:3141 Centennial Blvd\, Colorado Springs\, CO 80907.  $35 registration fee to participate.  8AM parking for participants. \nMore information here
URL:https://ppvmcca.com/event/va-hospital-car-show/
END:VEVENT
BEGIN:VEVENT
DTSTART;TZID=UTC:20230624T080000
DTEND;TZID=UTC:20230625T170000
DTSTAMP:20260422T052350
CREATED:20230521T204951Z
LAST-MODIFIED:20230521T205326Z
UID:837-1687593600-1687712400@ppvmcca.com
SUMMARY:Carousel and Old Town Tour to Burlington\, CO
DESCRIPTION:A cool overnight tour!  Sponsored by Shavers and Webbs. \nMore Info Here
URL:https://ppvmcca.com/event/carousel-and-old-town-tour-to-burlington-co/
END:VEVENT
END:VCALENDAR