BEGIN:VCALENDAR
VERSION:2.0
PRODID:-//Pikes Peak VMCCA - ECPv6.15.20//NONSGML v1.0//EN
CALSCALE:GREGORIAN
METHOD:PUBLISH
X-WR-CALNAME:Pikes Peak VMCCA
X-ORIGINAL-URL:https://ppvmcca.com
X-WR-CALDESC:Events for Pikes Peak VMCCA
REFRESH-INTERVAL;VALUE=DURATION:PT1H
X-Robots-Tag:noindex
X-PUBLISHED-TTL:PT1H
BEGIN:VTIMEZONE
TZID:UTC
BEGIN:STANDARD
TZOFFSETFROM:+0000
TZOFFSETTO:+0000
TZNAME:UTC
DTSTART:20220101T000000
END:STANDARD
END:VTIMEZONE
BEGIN:VTIMEZONE
TZID:America/Denver
BEGIN:DAYLIGHT
TZOFFSETFROM:-0700
TZOFFSETTO:-0600
TZNAME:MDT
DTSTART:20220313T090000
END:DAYLIGHT
BEGIN:STANDARD
TZOFFSETFROM:-0600
TZOFFSETTO:-0700
TZNAME:MST
DTSTART:20221106T080000
END:STANDARD
BEGIN:DAYLIGHT
TZOFFSETFROM:-0700
TZOFFSETTO:-0600
TZNAME:MDT
DTSTART:20230312T090000
END:DAYLIGHT
BEGIN:STANDARD
TZOFFSETFROM:-0600
TZOFFSETTO:-0700
TZNAME:MST
DTSTART:20231105T080000
END:STANDARD
BEGIN:DAYLIGHT
TZOFFSETFROM:-0700
TZOFFSETTO:-0600
TZNAME:MDT
DTSTART:20240310T090000
END:DAYLIGHT
BEGIN:STANDARD
TZOFFSETFROM:-0600
TZOFFSETTO:-0700
TZNAME:MST
DTSTART:20241103T080000
END:STANDARD
END:VTIMEZONE
BEGIN:VEVENT
DTSTART;TZID=UTC:20230503T080000
DTEND;TZID=UTC:20230503T170000
DTSTAMP:20260421T161830
CREATED:20230503T205840Z
LAST-MODIFIED:20230503T205840Z
UID:814-1683100800-1683133200@ppvmcca.com
SUMMARY:Carousel and Old Town Tour - Burlington\, CO
DESCRIPTION:Overnight Tour – Rooms Available\nContact Dee Shaver or Will Webb
URL:https://ppvmcca.com/event/carousel-and-old-town-tour-burlington-co/
END:VEVENT
BEGIN:VEVENT
DTSTART;TZID=America/Denver:20230429T080000
DTEND;TZID=America/Denver:20230429T170000
DTSTAMP:20260421T161830
CREATED:20231025T145205Z
LAST-MODIFIED:20231025T145205Z
UID:1170-1682755200-1682787600@ppvmcca.com
SUMMARY:Dust Off Tour
DESCRIPTION:The annual Dust Off Tour will be hosted by our friends in Pueblo and Canon City. Our chapter will meet\nat 8:00 am at the Magnum Shooting Center in the Southgate Shopping Center. We will plan to leave by\n8:15 to drive to Pueblo and meet with the other chapters at the former Kmart on the corner of Elizabeth\nand Highway 50. From there we will receive the directions of where we are going on the tour. Then our\nchapter will plan to have lunch at the Gooseberry Patch on Highway 115 then head home. A sign up\nsheet will be available at the April Membership meeting on the 14th of April.
URL:https://ppvmcca.com/event/dust-off-tour/
END:VEVENT
BEGIN:VEVENT
DTSTART;TZID=UTC:20230426T183000
DTEND;TZID=UTC:20230426T203000
DTSTAMP:20260421T161830
CREATED:20230424T021957Z
LAST-MODIFIED:20230424T022132Z
UID:787-1682533800-1682541000@ppvmcca.com
SUMMARY:Meet and Eat at Red Swing
DESCRIPTION:521 S. Tejon \n$20 for pizza and 2 pts of beer.  $11 for just a pizza.  Pizzas serve two people. \nPlenty of parking in the back.
URL:https://ppvmcca.com/event/meet-and-eat-at-red-swing/
END:VEVENT
BEGIN:VEVENT
DTSTART;TZID=UTC:20230414T193000
DTEND;TZID=UTC:20230414T210000
DTSTAMP:20260421T161830
CREATED:20230225T034253Z
LAST-MODIFIED:20230225T040939Z
UID:577-1681500600-1681506000@ppvmcca.com
SUMMARY:General Membership Meeting
DESCRIPTION:
URL:https://ppvmcca.com/event/general-membership-meeting/
LOCATION:Goldhill Police Station\, 955 West Moreno Ave.\, Colorado Springs\, CO\, 80905\, United States
CATEGORIES:Meetings
END:VEVENT
END:VCALENDAR