BEGIN:VCALENDAR
VERSION:2.0
PRODID:-//Pikes Peak VMCCA - ECPv6.15.20//NONSGML v1.0//EN
CALSCALE:GREGORIAN
METHOD:PUBLISH
X-WR-CALNAME:Pikes Peak VMCCA
X-ORIGINAL-URL:https://ppvmcca.com
X-WR-CALDESC:Events for Pikes Peak VMCCA
REFRESH-INTERVAL;VALUE=DURATION:PT1H
X-Robots-Tag:noindex
X-PUBLISHED-TTL:PT1H
BEGIN:VTIMEZONE
TZID:America/Denver
BEGIN:DAYLIGHT
TZOFFSETFROM:-0700
TZOFFSETTO:-0600
TZNAME:MDT
DTSTART:20220313T090000
END:DAYLIGHT
BEGIN:STANDARD
TZOFFSETFROM:-0600
TZOFFSETTO:-0700
TZNAME:MST
DTSTART:20221106T080000
END:STANDARD
BEGIN:DAYLIGHT
TZOFFSETFROM:-0700
TZOFFSETTO:-0600
TZNAME:MDT
DTSTART:20230312T090000
END:DAYLIGHT
BEGIN:STANDARD
TZOFFSETFROM:-0600
TZOFFSETTO:-0700
TZNAME:MST
DTSTART:20231105T080000
END:STANDARD
BEGIN:DAYLIGHT
TZOFFSETFROM:-0700
TZOFFSETTO:-0600
TZNAME:MDT
DTSTART:20240310T090000
END:DAYLIGHT
BEGIN:STANDARD
TZOFFSETFROM:-0600
TZOFFSETTO:-0700
TZNAME:MST
DTSTART:20241103T080000
END:STANDARD
BEGIN:DAYLIGHT
TZOFFSETFROM:-0700
TZOFFSETTO:-0600
TZNAME:MDT
DTSTART:20250309T090000
END:DAYLIGHT
BEGIN:STANDARD
TZOFFSETFROM:-0600
TZOFFSETTO:-0700
TZNAME:MST
DTSTART:20251102T080000
END:STANDARD
END:VTIMEZONE
BEGIN:VTIMEZONE
TZID:UTC
BEGIN:STANDARD
TZOFFSETFROM:+0000
TZOFFSETTO:+0000
TZNAME:UTC
DTSTART:20220101T000000
END:STANDARD
END:VTIMEZONE
BEGIN:VEVENT
DTSTART;TZID=America/Denver:20240825T080000
DTEND;TZID=America/Denver:20240825T170000
DTSTAMP:20260420T195645
CREATED:20240730T141451Z
LAST-MODIFIED:20240730T141451Z
UID:2320-1724572800-1724605200@ppvmcca.com
SUMMARY:The Big 3 Classic Car Show – Springs Event Center
DESCRIPTION:Club members Ron Theisman and Ace Cos have organized this event. \nDetails at https://www.facebook.com/events/1452267248740477/
URL:https://ppvmcca.com/event/the-big-3-classic-car-show-springs-event-center/
LOCATION:CO
END:VEVENT
BEGIN:VEVENT
DTSTART;TZID=America/Denver:20240810T090000
DTEND;TZID=America/Denver:20240810T130000
DTSTAMP:20260420T195645
CREATED:20240730T141113Z
LAST-MODIFIED:20240801T210759Z
UID:2317-1723280400-1723294800@ppvmcca.com
SUMMARY:Black Forest Parade
DESCRIPTION:The parade starts at 10:30 with staging by 9:30.  Pancake breakfast from 6:30-9:30 \nContact AJ Johnsen for additional details and to sign up.
URL:https://ppvmcca.com/event/black-forest-parade-2/
LOCATION:CO
END:VEVENT
BEGIN:VEVENT
DTSTART;TZID=America/Denver:20240803T110000
DTEND;TZID=America/Denver:20240803T140000
DTSTAMP:20260420T195645
CREATED:20240604T151020Z
LAST-MODIFIED:20240604T151020Z
UID:2140-1722682800-1722693600@ppvmcca.com
SUMMARY:Annual Picnic
DESCRIPTION:August 3 Annual Picnic at Lake George pavilion. Must be pre-registered with Elsie or Lavonne with $5/person paid by July 29th. Meet at Ghost Town at 11 AM for 11:15 sharp departure to Lake George Community Park. Each individual or family- ie: travel unit bring a\nside dish and salad or desert plus your own table service.\nThe club will provide fried chicken and drinks.\nUse this contact form and the webmaster will connect you with Elsie and Lavonne \n← Back Thank you for your response. ✨\n\n\n					\n						\n							\n							\n						\n						\n						\n						\n						\n							\n								\n									\n										\n										\n									\n									\n										\n										\n									\n								\n							\n						\n						\n							\n								\n									\n									\n										\n									\n									\n									\n								\n							\n						\n					\n				\n\n\n\nName(required)\n\n \n			\n				\n					\n						\n						\n						\n					\n				\n				\n			 \n	\n\n\nEmail(required)\n\n \n			\n				\n					\n						\n						\n						\n					\n				\n				\n			 \n	\n\n\nWebsite\n\n \n			\n				\n					\n						\n						\n						\n					\n				\n				\n			 \n	\n\n\nMessage\n\n \n			\n				\n					\n						\n						\n						\n					\n				\n				\n			\n	\n	\n\n				\n					\n				\n						Submit
URL:https://ppvmcca.com/event/annual-picnic/
LOCATION:Lake George Picnic Pavillion\, Lake George\, CO\, 80827\, United States
END:VEVENT
BEGIN:VEVENT
DTSTART;TZID=America/Denver:20240724T183000
DTEND;TZID=America/Denver:20240724T203000
DTSTAMP:20260420T195645
CREATED:20240604T151350Z
LAST-MODIFIED:20240604T151350Z
UID:2143-1721845800-1721853000@ppvmcca.com
SUMMARY:Pizza Night
DESCRIPTION:
URL:https://ppvmcca.com/event/pizza-night-3/
LOCATION:Fillmore Pizza Kitchen\, 3150 N Chestnut St\, Colorado Springs\, CO\, 80907\, United States
END:VEVENT
BEGIN:VEVENT
DTSTART;TZID=America/Denver:20240712T183000
DTEND;TZID=America/Denver:20240712T210000
DTSTAMP:20260420T195645
CREATED:20240604T145320Z
LAST-MODIFIED:20240604T145320Z
UID:2138-1720809000-1720818000@ppvmcca.com
SUMMARY:July Membership Meeting
DESCRIPTION:
URL:https://ppvmcca.com/event/july-membership-meeting/
LOCATION:Goldhill Police Station\, 955 West Moreno Ave.\, Colorado Springs\, CO\, 80905\, United States
END:VEVENT
BEGIN:VEVENT
DTSTART;TZID=America/Denver:20240706T080000
DTEND;TZID=America/Denver:20240706T170000
DTSTAMP:20260420T195645
CREATED:20240604T153652Z
LAST-MODIFIED:20240605T013034Z
UID:2159-1720252800-1720285200@ppvmcca.com
SUMMARY:Rodeo Parade
DESCRIPTION:Details TBD. \nUse contact form below and the webmaster will connect you with the event point of contact. \n\n← Back Thank you for your response. ✨\n\n\n					\n						\n							\n							\n						\n						\n						\n						\n						\n							\n								\n									\n										\n										\n									\n									\n										\n										\n									\n								\n							\n						\n						\n							\n								\n									\n									\n										\n									\n									\n									\n								\n							\n						\n					\n				\n\n\n\nName(required)\n\n \n			\n				\n					\n						\n						\n						\n					\n				\n				\n			 \n	\n\n\nEmail(required)\n\n \n			\n				\n					\n						\n						\n						\n					\n				\n				\n			 \n	\n\n\nWebsite\n\n \n			\n				\n					\n						\n						\n						\n					\n				\n				\n			 \n	\n\n\nMessage\n\n \n			\n				\n					\n						\n						\n						\n					\n				\n				\n			\n	\n	\n\n				\n					\n				\n						Submit
URL:https://ppvmcca.com/event/rodeo-parade/
LOCATION:CO
END:VEVENT
BEGIN:VEVENT
DTSTART;TZID=America/Denver:20240704T090000
DTEND;TZID=America/Denver:20240704T160000
DTSTAMP:20260420T195645
CREATED:20240604T153513Z
LAST-MODIFIED:20240604T170545Z
UID:2156-1720083600-1720108800@ppvmcca.com
SUMMARY:World War II Aviation Museum and Car Show
DESCRIPTION:Pre-War cars from our club and some awesome\, flyable\, WW II aircraft.  If this doesn’t get your patriotic blood flowing\, nothing will! \nBe at the museum at 9AM if bringing a car.  if you’d like to see the exhibit\, it starts at 10AM. \nWeldon Shaver is POC.  Use contact form below and the webmaster will connect you with Weldon. \n\n← Back Thank you for your response. ✨\n\n\n					\n						\n							\n							\n						\n						\n						\n						\n						\n							\n								\n									\n										\n										\n									\n									\n										\n										\n									\n								\n							\n						\n						\n							\n								\n									\n									\n										\n									\n									\n									\n								\n							\n						\n					\n				\n\n\n\nName(required)\n\n \n			\n				\n					\n						\n						\n						\n					\n				\n				\n			 \n	\n\n\nEmail(required)\n\n \n			\n				\n					\n						\n						\n						\n					\n				\n				\n			 \n	\n\n\nWebsite\n\n \n			\n				\n					\n						\n						\n						\n					\n				\n				\n			 \n	\n\n\nMessage\n\n \n			\n				\n					\n						\n						\n						\n					\n				\n				\n			\n	\n	\n\n				\n					\n				\n						Submit
URL:https://ppvmcca.com/event/world-war-ii-aviation-museum-and-car-show/
LOCATION:WW II Aviation Museum\, 775 Aviation Way\, Colorado Springs\, 80914\, United States
END:VEVENT
BEGIN:VEVENT
DTSTART;TZID=America/Denver:20240626T183000
DTEND;TZID=America/Denver:20240626T203000
DTSTAMP:20260420T195645
CREATED:20240604T144959Z
LAST-MODIFIED:20240604T144959Z
UID:2135-1719426600-1719433800@ppvmcca.com
SUMMARY:Pizza Night
DESCRIPTION:
URL:https://ppvmcca.com/event/pizza-night-2/
LOCATION:Fillmore Pizza Kitchen\, 3150 N Chestnut St\, Colorado Springs\, CO\, 80907\, United States
END:VEVENT
BEGIN:VEVENT
DTSTART;TZID=America/Denver:20240622T081500
DTEND;TZID=America/Denver:20240622T140000
DTSTAMP:20260420T195645
CREATED:20240604T144317Z
LAST-MODIFIED:20240604T144317Z
UID:2132-1719044100-1719064800@ppvmcca.com
SUMMARY:Rambler Ranch Tour
DESCRIPTION:36370 Forest Trail\, Elizabeth\, CO 80107\nWeb https://www.ramblerranch.com/team\nItinerary: 8:15 Meet up at Scheels: 1226 Interquest Pkwy\, Colorado Springs\, CO 80921\n8:45 Leave /10:00 arrive.\n$20/ person entrance fee. Lunch not provided\, please bring your own lunch. There is a\npicnic area at the museum with tables\nPayment is due by June 15\, 2024 to Dee Shaver – Use this contact form and the webmaster will connect you with Dee \n← Back Thank you for your response. ✨\n\n\n					\n						\n							\n							\n						\n						\n						\n						\n						\n							\n								\n									\n										\n										\n									\n									\n										\n										\n									\n								\n							\n						\n						\n							\n								\n									\n									\n										\n									\n									\n									\n								\n							\n						\n					\n				\n\n\n\nName(required)\n\n \n			\n				\n					\n						\n						\n						\n					\n				\n				\n			 \n	\n\n\nEmail(required)\n\n \n			\n				\n					\n						\n						\n						\n					\n				\n				\n			 \n	\n\n\nWebsite\n\n \n			\n				\n					\n						\n						\n						\n					\n				\n				\n			 \n	\n\n\nMessage\n\n \n			\n				\n					\n						\n						\n						\n					\n				\n				\n			\n	\n	\n\n				\n					\n				\n						Submit
URL:https://ppvmcca.com/event/rambler-ranch-tour/
LOCATION:Rambler Ranch\, 36370 Forest Trail\, Elizabeth\, CO\, 80107\, United States
END:VEVENT
BEGIN:VEVENT
DTSTART;TZID=America/Denver:20240517T153000
DTEND;TZID=America/Denver:20240517T210000
DTSTAMP:20260420T195645
CREATED:20240323T002747Z
LAST-MODIFIED:20240513T202608Z
UID:1827-1715959800-1715979600@ppvmcca.com
SUMMARY:Lazy Dog America the Brewiful Car Show
DESCRIPTION:Car show on May 17th to help them kick off their release of their new beers.  They do these releases quarterly and this one has an Americana theme to it so he would like some vintage cars to help promote the event.  It is changed from Wednesday May 15 to Friday May 17 and he would like us there from around 4:00pm to however late we want to stay\, probably 7:30 to 8:00.  They would like about 8-10 cars or however many we can bring but he has parking for 7-8 in front.  \nThey like to support a charitable organization and will donate 15% of their proceeds on our behalf if we have one we want to support or they will pick one.  Perhaps McPherson College for scholarships?\n← Back Thank you for your response. ✨\n\n\n					\n						\n							\n							\n						\n						\n						\n						\n						\n							\n								\n									\n										\n										\n									\n									\n										\n										\n									\n								\n							\n						\n						\n							\n								\n									\n									\n										\n									\n									\n									\n								\n							\n						\n					\n				\n\n\n\nName(required)\n\n \n			\n				\n					\n						\n						\n						\n					\n				\n				\n			 \n	\n\n\nEmail(required)\n\n \n			\n				\n					\n						\n						\n						\n					\n				\n				\n			 \n	\n\n\nWebsite\n\n \n			\n				\n					\n						\n						\n						\n					\n				\n				\n			 \n	\n\n\nMessage\n\n \n			\n				\n					\n						\n						\n						\n					\n				\n				\n			\n	\n	\n\n				\n					\n				\n						Submit		\n		\n		\n	 \n\n  It doesn’t have to be one in town.
URL:https://ppvmcca.com/event/lazy-dog-america-the-brewiful-car-show/
LOCATION:CO
END:VEVENT
BEGIN:VEVENT
DTSTART;TZID=America/Denver:20240510T190000
DTEND;TZID=America/Denver:20240510T210000
DTSTAMP:20260420T195645
CREATED:20240305T225805Z
LAST-MODIFIED:20240501T155912Z
UID:1725-1715367600-1715374800@ppvmcca.com
SUMMARY:Membership Meeting
DESCRIPTION:May General Meeting \nSpeaker is Eric Metzger on McAllister House History.
URL:https://ppvmcca.com/event/membership-meeting-2/
LOCATION:Goldhill Police Station\, 955 West Moreno Ave.\, Colorado Springs\, CO\, 80905\, United States
END:VEVENT
BEGIN:VEVENT
DTSTART;TZID=America/Denver:20240427T090000
DTEND;TZID=America/Denver:20240427T130000
DTSTAMP:20260420T195645
CREATED:20240305T223252Z
LAST-MODIFIED:20240305T224924Z
UID:1717-1714208400-1714222800@ppvmcca.com
SUMMARY:Dust Off Tour
DESCRIPTION:Meet at Magnum Shooting Center Parking lot at 9AM. 2050 Southgate Rd.  Will depart at 9:15 for a visit to the Pikes Peak Hill Climb Museum.  Entry is free.  Afterwards\, we will have lunch at a local eatery and wrap up by about 1PM.
URL:https://ppvmcca.com/event/dust-off-tour-2/
LOCATION:Magnum Shooting Center\, 2050 Southgate Rd.\, COLORADO SPRINGS\, CO\, 80906\, United States
END:VEVENT
BEGIN:VEVENT
DTSTART;TZID=America/Denver:20240412T190000
DTEND;TZID=America/Denver:20240412T210000
DTSTAMP:20260420T195645
CREATED:20240305T224728Z
LAST-MODIFIED:20240305T224728Z
UID:1722-1712948400-1712955600@ppvmcca.com
SUMMARY:Membership Meeting
DESCRIPTION:Gold Hill Police Station\n955 W Moreno
URL:https://ppvmcca.com/event/membership-meeting/
LOCATION:Goldhill Police Station\, 955 West Moreno Ave.\, Colorado Springs\, CO\, 80905\, United States
END:VEVENT
BEGIN:VEVENT
DTSTART;TZID=America/Denver:20240316T080000
DTEND;TZID=America/Denver:20240316T170000
DTSTAMP:20260420T195645
CREATED:20240122T162949Z
LAST-MODIFIED:20240220T144056Z
UID:1479-1710576000-1710608400@ppvmcca.com
SUMMARY:St Patrick's Day Parade
DESCRIPTION:A fun way to get out with our cars and let the parade attendees get a good look at them.  Weldon Shaver is POC.
URL:https://ppvmcca.com/event/st-patricks-day-parade/
LOCATION:CO
END:VEVENT
BEGIN:VEVENT
DTSTART;TZID=America/Denver:20240308T183000
DTEND;TZID=America/Denver:20240308T210000
DTSTAMP:20260420T195645
CREATED:20240220T145324Z
LAST-MODIFIED:20240305T225508Z
UID:1641-1709922600-1709931600@ppvmcca.com
SUMMARY:Club Potluck
DESCRIPTION:Annual PPVMCCA Potluck. \nGood Shepherd United Methodist Church\n1201 Leta Drive\nColorado Springs\, CO 80911   \nContact AJ Johnsen for details.
URL:https://ppvmcca.com/event/club-potluck/
LOCATION:Good Shepherd United Methodist Church\, 1201 Leta Drive\, Colorado Springs\, CO\, 80911\, United States
END:VEVENT
BEGIN:VEVENT
DTSTART;TZID=America/Denver:20240208T080000
DTEND;TZID=America/Denver:20240214T170000
DTSTAMP:20260420T195645
CREATED:20230925T203306Z
LAST-MODIFIED:20230925T203306Z
UID:1085-1707379200-1707930000@ppvmcca.com
SUMMARY:National VMCCA Annual Membership Meeting and Cruise
DESCRIPTION:Cuise leaves Tampa Bay\, FL for Cozumel Mexico. \nDetails in the Bulb Horn.
URL:https://ppvmcca.com/event/national-vmcca-annual-membership-meeting-and-cruise/
LOCATION:CO
END:VEVENT
BEGIN:VEVENT
DTSTART;TZID=America/Denver:20231210T160000
DTEND;TZID=America/Denver:20231210T200000
DTSTAMP:20260420T195645
CREATED:20231119T155635Z
LAST-MODIFIED:20231209T221417Z
UID:1269-1702224000-1702238400@ppvmcca.com
SUMMARY:Manitou Christmas Parade
DESCRIPTION:Contact James Perry to sign up and drive your vintage car in a fun\, short parade. \nGeneral information at https://manitouchristmasparade.com/
URL:https://ppvmcca.com/event/manitou-christmas-parade/
LOCATION:CO
END:VEVENT
BEGIN:VEVENT
DTSTART;TZID=America/Denver:20231209T140000
DTEND;TZID=America/Denver:20231209T170000
DTSTAMP:20260420T195645
CREATED:20231025T224039Z
LAST-MODIFIED:20231025T224039Z
UID:1175-1702130400-1702141200@ppvmcca.com
SUMMARY:Pueblo VMCCA Christmas Party
DESCRIPTION:2023_Christmas_Party
URL:https://ppvmcca.com/event/pueblo-vmcca-christmas-party/
LOCATION:CO
END:VEVENT
BEGIN:VEVENT
DTSTART;TZID=America/Denver:20231203T120000
DTEND;TZID=America/Denver:20231203T150000
DTSTAMP:20260420T195645
CREATED:20230925T202401Z
LAST-MODIFIED:20231025T225256Z
UID:1079-1701604800-1701615600@ppvmcca.com
SUMMARY:Christmas Party
DESCRIPTION:Membership Christmas Party at Patty Jewett Bar and Grill\, 900 East Espanola Street. \nPOC is AJ Johnsen\, registration form here: \n2023_Christmas_Party
URL:https://ppvmcca.com/event/christmas-party/
LOCATION:Patty Jewett\, 900 E Espanola St.\, Colorado Springs\, Colorado\, 80907\, United States
END:VEVENT
BEGIN:VEVENT
DTSTART;TZID=America/Denver:20231129T183000
DTEND;TZID=America/Denver:20231129T203000
DTSTAMP:20260420T195645
CREATED:20231019T152302Z
LAST-MODIFIED:20231019T152302Z
UID:1158-1701282600-1701289800@ppvmcca.com
SUMMARY:Pizza Night - One time day change due to Thanksgiving
DESCRIPTION:Fillmore Pizza Kitchen. \n3150 N Chestnut St\,\nColorado Springs\, CO 80907
URL:https://ppvmcca.com/event/pizza-night-one-time-day-change-due-to-thanksgiving/
LOCATION:CO
END:VEVENT
BEGIN:VEVENT
DTSTART;TZID=UTC:20231110T190000
DTEND;TZID=UTC:20231110T210000
DTSTAMP:20260420T195645
CREATED:20230225T040649Z
LAST-MODIFIED:20231109T123010Z
UID:585-1699642800-1699650000@ppvmcca.com
SUMMARY:General Membership Meeting
DESCRIPTION:Pie Night!  Bring your favorite pie to share!
URL:https://ppvmcca.com/event/general-membership-meeting-4/
LOCATION:Goldhill Police Station\, 955 West Moreno Ave.\, Colorado Springs\, CO\, 80905\, United States
CATEGORIES:Meetings
END:VEVENT
BEGIN:VEVENT
DTSTART;TZID=America/Denver:20231025T183000
DTEND;TZID=America/Denver:20231025T203000
DTSTAMP:20260420T195645
CREATED:20231019T000757Z
LAST-MODIFIED:20231019T000757Z
UID:1155-1698258600-1698265800@ppvmcca.com
SUMMARY:Pizza Night
DESCRIPTION:Fillmore Pizza Kitchen. \n3150 N Chestnut Street.
URL:https://ppvmcca.com/event/pizza-night/
LOCATION:CO
END:VEVENT
BEGIN:VEVENT
DTSTART;TZID=UTC:20231013T193000
DTEND;TZID=UTC:20231013T210000
DTSTAMP:20260420T195645
CREATED:20230225T040758Z
LAST-MODIFIED:20230225T040907Z
UID:587-1697225400-1697230800@ppvmcca.com
SUMMARY:General Membership Meeting
DESCRIPTION:
URL:https://ppvmcca.com/event/general-membership-meeting-5/
LOCATION:Goldhill Police Station\, 955 West Moreno Ave.\, Colorado Springs\, CO\, 80905\, United States
CATEGORIES:Meetings
END:VEVENT
BEGIN:VEVENT
DTSTART;TZID=America/Denver:20231007T080000
DTEND;TZID=America/Denver:20231007T170000
DTSTAMP:20260420T195645
CREATED:20230925T202920Z
LAST-MODIFIED:20230928T134408Z
UID:1083-1696665600-1696698000@ppvmcca.com
SUMMARY:Tour to Denver to a private car collection
DESCRIPTION:a tour to Denver to visit an outstanding private car collection.  Please call Ron Theisman to RSVP 719-471-1887.
URL:https://ppvmcca.com/event/tour-to-denver-to-a-private-car-collection/
LOCATION:CO
END:VEVENT
BEGIN:VEVENT
DTSTART;TZID=UTC:20231001T080000
DTEND;TZID=UTC:20231231T170000
DTSTAMP:20260420T195645
CREATED:20230325T205700Z
LAST-MODIFIED:20230327T033144Z
UID:680-1696147200-1704042000@ppvmcca.com
SUMMARY:Pikes Peak VMCCA 2024 Dues
DESCRIPTION:Click the Website link below to pay your 2024 PPVMCCA Dues online via Stripe.
URL:https://ppvmcca.com/event/pikes-peak-vmcca-2024-dues/
LOCATION:Virtual
END:VEVENT
BEGIN:VEVENT
DTSTART;TZID=America/Denver:20230930T080000
DTEND;TZID=America/Denver:20230930T170000
DTSTAMP:20260420T195645
CREATED:20230926T210803Z
LAST-MODIFIED:20230928T134237Z
UID:1089-1696060800-1696093200@ppvmcca.com
SUMMARY:Color Tour
DESCRIPTION:Bob Wade has an excellent route planned through Teller\, Fremont\, Park\, and Custer counties with lunch in Westcliff.  This will be an all-day event so please be fueled and prepared.\n                *Meet at Ghost Town at 8:45 AM for a 9 AM sharp departure\n                *Please confirm attendance with Bob Wade at 719-639-1301
URL:https://ppvmcca.com/event/color-tour/
LOCATION:CO
END:VEVENT
BEGIN:VEVENT
DTSTART;TZID=America/Denver:20230923T080000
DTEND;TZID=America/Denver:20230923T170000
DTSTAMP:20260420T195645
CREATED:20230813T141606Z
LAST-MODIFIED:20230813T141606Z
UID:1006-1695456000-1695488400@ppvmcca.com
SUMMARY:McAllister House Harvest Festival
DESCRIPTION:Chuck Donachy is POC.  Pre WWII cars desired.  423 N. Cascade \nMcAllister House Museum Home
URL:https://ppvmcca.com/event/mcallister-house-harvest-festival/
LOCATION:CO
END:VEVENT
BEGIN:VEVENT
DTSTART;TZID=America/Denver:20230917T120000
DTEND;TZID=America/Denver:20230917T140000
DTSTAMP:20260420T195645
CREATED:20230813T141118Z
LAST-MODIFIED:20230813T142043Z
UID:1004-1694952000-1694959200@ppvmcca.com
SUMMARY:Grace Episcopal Church 100th Anniversary
DESCRIPTION:Will Webb is POC. \nHere’s the contact made via our website:  Hello\, we’re planning a big party to celebrate our centennial at Grace and St. Stephen’s Episcopal Church in downtown Colorado Springs (603 N. Tejon). We began as a combined parish in 1923. The party is on September 17\, 2023 from 12:00 – 2:00. Would members of your group be able to come have some cars on display from the aughts\, teens\, 20s and 30s? 5-10 cars\, maybe?
URL:https://ppvmcca.com/event/grace-episcopal-church-100th-anniversary/
LOCATION:CO
END:VEVENT
BEGIN:VEVENT
DTSTART;TZID=UTC:20230908T193000
DTEND;TZID=UTC:20230908T210000
DTSTAMP:20260420T195645
CREATED:20230225T034653Z
LAST-MODIFIED:20230225T040915Z
UID:583-1694201400-1694206800@ppvmcca.com
SUMMARY:General Membership Meeting
DESCRIPTION:
URL:https://ppvmcca.com/event/general-membership-meeting-3/
LOCATION:Goldhill Police Station\, 955 West Moreno Ave.\, Colorado Springs\, CO\, 80905\, United States
CATEGORIES:Meetings
END:VEVENT
BEGIN:VEVENT
DTSTART;TZID=America/Denver:20230904T080000
DTEND;TZID=America/Denver:20230904T170000
DTSTAMP:20260420T195645
CREATED:20230813T140945Z
LAST-MODIFIED:20230813T141722Z
UID:1002-1693814400-1693846800@ppvmcca.com
SUMMARY:Labor Day Parade– Fountain
DESCRIPTION:James Perry is POC
URL:https://ppvmcca.com/event/labor-day-parade-fountain-james-perry-is-poc/
LOCATION:CO
END:VEVENT
END:VCALENDAR