BEGIN:VCALENDAR
VERSION:2.0
PRODID:-//Pikes Peak VMCCA - ECPv6.15.20//NONSGML v1.0//EN
CALSCALE:GREGORIAN
METHOD:PUBLISH
X-ORIGINAL-URL:https://ppvmcca.com
X-WR-CALDESC:Events for Pikes Peak VMCCA
REFRESH-INTERVAL;VALUE=DURATION:PT1H
X-Robots-Tag:noindex
X-PUBLISHED-TTL:PT1H
BEGIN:VTIMEZONE
TZID:America/Denver
BEGIN:DAYLIGHT
TZOFFSETFROM:-0700
TZOFFSETTO:-0600
TZNAME:MDT
DTSTART:20250309T090000
END:DAYLIGHT
BEGIN:STANDARD
TZOFFSETFROM:-0600
TZOFFSETTO:-0700
TZNAME:MST
DTSTART:20251102T080000
END:STANDARD
BEGIN:DAYLIGHT
TZOFFSETFROM:-0700
TZOFFSETTO:-0600
TZNAME:MDT
DTSTART:20260308T090000
END:DAYLIGHT
BEGIN:STANDARD
TZOFFSETFROM:-0600
TZOFFSETTO:-0700
TZNAME:MST
DTSTART:20261101T080000
END:STANDARD
BEGIN:DAYLIGHT
TZOFFSETFROM:-0700
TZOFFSETTO:-0600
TZNAME:MDT
DTSTART:20270314T090000
END:DAYLIGHT
BEGIN:STANDARD
TZOFFSETFROM:-0600
TZOFFSETTO:-0700
TZNAME:MST
DTSTART:20271107T080000
END:STANDARD
END:VTIMEZONE
BEGIN:VEVENT
DTSTART;TZID=America/Denver:20260422T180000
DTEND;TZID=America/Denver:20260422T200000
DTSTAMP:20260420T010737
CREATED:20260102T162602Z
LAST-MODIFIED:20260205T234015Z
UID:5454-1776880800-1776888000@ppvmcca.com
SUMMARY:Pizza Night
DESCRIPTION:
URL:https://ppvmcca.com/event/pizza-night-19/
LOCATION:Leon Gessi\, 1806 Palmer Park Blvd\, Colorado Springs\, 80909\, United States
END:VEVENT
BEGIN:VEVENT
DTSTART;TZID=America/Denver:20260508T190000
DTEND;TZID=America/Denver:20260508T210000
DTSTAMP:20260420T010737
CREATED:20260102T161053Z
LAST-MODIFIED:20260102T161053Z
UID:5438-1778266800-1778274000@ppvmcca.com
SUMMARY:May General Membership Meeting
DESCRIPTION:
URL:https://ppvmcca.com/event/may-general-membership-meeting/
LOCATION:Goldhill Police Station\, 955 West Moreno Ave.\, Colorado Springs\, CO\, 80905\, United States
END:VEVENT
BEGIN:VEVENT
DTSTART;TZID=America/Denver:20260527T180000
DTEND;TZID=America/Denver:20260527T200000
DTSTAMP:20260420T010737
CREATED:20260102T162743Z
LAST-MODIFIED:20260205T234050Z
UID:5456-1779904800-1779912000@ppvmcca.com
SUMMARY:Pizza Night
DESCRIPTION:
URL:https://ppvmcca.com/event/pizza-night-20/
LOCATION:Leon Gessi\, 1806 Palmer Park Blvd\, Colorado Springs\, 80909\, United States
END:VEVENT
BEGIN:VEVENT
DTSTART;TZID=America/Denver:20260624T080000
DTEND;TZID=America/Denver:20260624T170000
DTSTAMP:20260420T010737
CREATED:20260102T162952Z
LAST-MODIFIED:20260205T234131Z
UID:5459-1782288000-1782320400@ppvmcca.com
SUMMARY:Pizza Night
DESCRIPTION:
URL:https://ppvmcca.com/event/pizza-night-21/
LOCATION:Leon Gessi\, 1806 Palmer Park Blvd\, Colorado Springs\, 80909\, United States
END:VEVENT
BEGIN:VEVENT
DTSTART;TZID=America/Denver:20260710T190000
DTEND;TZID=America/Denver:20260710T210000
DTSTAMP:20260420T010737
CREATED:20260102T161217Z
LAST-MODIFIED:20260102T161217Z
UID:5440-1783710000-1783717200@ppvmcca.com
SUMMARY:Jul General Membership Meeting
DESCRIPTION:
URL:https://ppvmcca.com/event/jul-general-membership-meeting/
LOCATION:Goldhill Police Station\, 955 West Moreno Ave.\, Colorado Springs\, CO\, 80905\, United States
END:VEVENT
BEGIN:VEVENT
DTSTART;TZID=America/Denver:20260722T180000
DTEND;TZID=America/Denver:20260722T200000
DTSTAMP:20260420T010737
CREATED:20260102T163043Z
LAST-MODIFIED:20260205T234217Z
UID:5461-1784743200-1784750400@ppvmcca.com
SUMMARY:Pizza Night
DESCRIPTION:
URL:https://ppvmcca.com/event/pizza-night-22/
LOCATION:Leon Gessi\, 1806 Palmer Park Blvd\, Colorado Springs\, 80909\, United States
END:VEVENT
BEGIN:VEVENT
DTSTART;TZID=America/Denver:20260826T180000
DTEND;TZID=America/Denver:20260826T200000
DTSTAMP:20260420T010737
CREATED:20260102T163136Z
LAST-MODIFIED:20260205T234256Z
UID:5463-1787767200-1787774400@ppvmcca.com
SUMMARY:Pizza Night
DESCRIPTION:
URL:https://ppvmcca.com/event/pizza-night-23/
LOCATION:Leon Gessi\, 1806 Palmer Park Blvd\, Colorado Springs\, 80909\, United States
END:VEVENT
BEGIN:VEVENT
DTSTART;TZID=America/Denver:20260911T190000
DTEND;TZID=America/Denver:20260911T210000
DTSTAMP:20260420T010737
CREATED:20260102T161327Z
LAST-MODIFIED:20260102T161327Z
UID:5442-1789153200-1789160400@ppvmcca.com
SUMMARY:Sep General Membership Meeting
DESCRIPTION:
URL:https://ppvmcca.com/event/sep-general-membership-meeting/
LOCATION:Goldhill Police Station\, 955 West Moreno Ave.\, Colorado Springs\, CO\, 80905\, United States
END:VEVENT
BEGIN:VEVENT
DTSTART;TZID=America/Denver:20260923T180000
DTEND;TZID=America/Denver:20260923T200000
DTSTAMP:20260420T010737
CREATED:20260102T163227Z
LAST-MODIFIED:20260205T234338Z
UID:5465-1790186400-1790193600@ppvmcca.com
SUMMARY:Pizza Night
DESCRIPTION:
URL:https://ppvmcca.com/event/pizza-night-24/
LOCATION:Leon Gessi\, 1806 Palmer Park Blvd\, Colorado Springs\, 80909\, United States
END:VEVENT
BEGIN:VEVENT
DTSTART;TZID=America/Denver:20261009T190000
DTEND;TZID=America/Denver:20261009T210000
DTSTAMP:20260420T010737
CREATED:20260102T161455Z
LAST-MODIFIED:20260102T161455Z
UID:5444-1791572400-1791579600@ppvmcca.com
SUMMARY:Oct General Membership Meeting
DESCRIPTION:
URL:https://ppvmcca.com/event/oct-general-membership-meeting/
LOCATION:Goldhill Police Station\, 955 West Moreno Ave.\, Colorado Springs\, CO\, 80905\, United States
END:VEVENT
BEGIN:VEVENT
DTSTART;TZID=America/Denver:20261028T180000
DTEND;TZID=America/Denver:20261028T200000
DTSTAMP:20260420T010737
CREATED:20260102T163306Z
LAST-MODIFIED:20260205T234428Z
UID:5467-1793210400-1793217600@ppvmcca.com
SUMMARY:Pizza Night
DESCRIPTION:
URL:https://ppvmcca.com/event/pizza-night-25/
LOCATION:Leon Gessi\, 1806 Palmer Park Blvd\, Colorado Springs\, 80909\, United States
END:VEVENT
BEGIN:VEVENT
DTSTART;TZID=America/Denver:20261113T070000
DTEND;TZID=America/Denver:20261113T210000
DTSTAMP:20260420T010737
CREATED:20260102T161644Z
LAST-MODIFIED:20260102T161644Z
UID:5446-1794553200-1794603600@ppvmcca.com
SUMMARY:Nov General Membership Meeting & Pie Night!
DESCRIPTION:Bring your favorite pie to share
URL:https://ppvmcca.com/event/nov-general-membership-meeting-pie-night/
LOCATION:Goldhill Police Station\, 955 West Moreno Ave.\, Colorado Springs\, CO\, 80905\, United States
END:VEVENT
END:VCALENDAR