BEGIN:VCALENDAR
VERSION:2.0
PRODID:-//Pikes Peak VMCCA - ECPv6.15.20//NONSGML v1.0//EN
CALSCALE:GREGORIAN
METHOD:PUBLISH
X-WR-CALNAME:Pikes Peak VMCCA
X-ORIGINAL-URL:https://ppvmcca.com
X-WR-CALDESC:Events for Pikes Peak VMCCA
REFRESH-INTERVAL;VALUE=DURATION:PT1H
X-Robots-Tag:noindex
X-PUBLISHED-TTL:PT1H
BEGIN:VTIMEZONE
TZID:America/Denver
BEGIN:DAYLIGHT
TZOFFSETFROM:-0700
TZOFFSETTO:-0600
TZNAME:MDT
DTSTART:20240310T090000
END:DAYLIGHT
BEGIN:STANDARD
TZOFFSETFROM:-0600
TZOFFSETTO:-0700
TZNAME:MST
DTSTART:20241103T080000
END:STANDARD
BEGIN:DAYLIGHT
TZOFFSETFROM:-0700
TZOFFSETTO:-0600
TZNAME:MDT
DTSTART:20250309T090000
END:DAYLIGHT
BEGIN:STANDARD
TZOFFSETFROM:-0600
TZOFFSETTO:-0700
TZNAME:MST
DTSTART:20251102T080000
END:STANDARD
BEGIN:DAYLIGHT
TZOFFSETFROM:-0700
TZOFFSETTO:-0600
TZNAME:MDT
DTSTART:20260308T090000
END:DAYLIGHT
BEGIN:STANDARD
TZOFFSETFROM:-0600
TZOFFSETTO:-0700
TZNAME:MST
DTSTART:20261101T080000
END:STANDARD
END:VTIMEZONE
BEGIN:VEVENT
DTSTART;TZID=America/Denver:20251114T190000
DTEND;TZID=America/Denver:20251114T220000
DTSTAMP:20260420T204833
CREATED:20250101T232038Z
LAST-MODIFIED:20250101T232038Z
UID:4494-1763146800-1763157600@ppvmcca.com
SUMMARY:Nov General Meeting
DESCRIPTION:
URL:https://ppvmcca.com/event/nov-general-meeting/
LOCATION:Goldhill Police Station\, 955 West Moreno Ave.\, Colorado Springs\, CO\, 80905\, United States
END:VEVENT
BEGIN:VEVENT
DTSTART;TZID=America/Denver:20251108T080000
DTEND;TZID=America/Denver:20251108T170000
DTSTAMP:20260420T204833
CREATED:20251009T115900Z
LAST-MODIFIED:20251009T115900Z
UID:5395-1762588800-1762621200@ppvmcca.com
SUMMARY:Veteran's Day Parade
DESCRIPTION:November 8th we are registered to participate in the Veterans Day Parade in Colorado Springs and will have a sign-up sheet at the October Membership Meeting.
URL:https://ppvmcca.com/event/veterans-day-parade/
END:VEVENT
BEGIN:VEVENT
DTSTART;TZID=America/Denver:20251022T080000
DTEND;TZID=America/Denver:20251022T170000
DTSTAMP:20260420T204833
CREATED:20250501T154406Z
LAST-MODIFIED:20250501T154406Z
UID:5279-1761120000-1761152400@ppvmcca.com
SUMMARY:Pizza Night
DESCRIPTION:Pizza nights at Filmore Pizza fourth Wednesdays 6:30 pm or as noted in future newsletters.
URL:https://ppvmcca.com/event/pizza-night-15/
LOCATION:Fillmore Pizza Kitchen\, 3150 N Chestnut St\, Colorado Springs\, CO\, 80907\, United States
END:VEVENT
BEGIN:VEVENT
DTSTART;TZID=America/Denver:20251018T080000
DTEND;TZID=America/Denver:20251018T170000
DTSTAMP:20260420T204833
CREATED:20251008T162003Z
LAST-MODIFIED:20251008T162003Z
UID:5388-1760774400-1760806800@ppvmcca.com
SUMMARY:Pueblo Railway Museum Tour
DESCRIPTION:Pueblo Railway Museum Tour. The cost is $10/person for the train ride\nso contact Sandy Boese to sign up and pay.
URL:https://ppvmcca.com/event/pueblo-railway-museum-tour/
END:VEVENT
BEGIN:VEVENT
DTSTART;TZID=America/Denver:20251010T190000
DTEND;TZID=America/Denver:20251010T220000
DTSTAMP:20260420T204833
CREATED:20250101T231948Z
LAST-MODIFIED:20250101T231948Z
UID:4492-1760122800-1760133600@ppvmcca.com
SUMMARY:Oct General Meeting
DESCRIPTION:
URL:https://ppvmcca.com/event/oct-general-meeting/
LOCATION:Goldhill Police Station\, 955 West Moreno Ave.\, Colorado Springs\, CO\, 80905\, United States
END:VEVENT
BEGIN:VEVENT
DTSTART;TZID=America/Denver:20250924T183000
DTEND;TZID=America/Denver:20250924T200000
DTSTAMP:20260420T204833
CREATED:20250501T154258Z
LAST-MODIFIED:20250501T154258Z
UID:5277-1758738600-1758744000@ppvmcca.com
SUMMARY:Pizza Night
DESCRIPTION:Pizza nights at Filmore Pizza fourth Wednesdays 6:30 pm or as noted in future newsletters.
URL:https://ppvmcca.com/event/pizza-night-14/
LOCATION:Fillmore Pizza Kitchen\, 3150 N Chestnut St\, Colorado Springs\, CO\, 80907\, United States
END:VEVENT
BEGIN:VEVENT
DTSTART;TZID=America/Denver:20250912T190000
DTEND;TZID=America/Denver:20250912T220000
DTSTAMP:20260420T204833
CREATED:20250101T231855Z
LAST-MODIFIED:20250101T231855Z
UID:4490-1757703600-1757714400@ppvmcca.com
SUMMARY:Sep General Meeting
DESCRIPTION:
URL:https://ppvmcca.com/event/sep-general-meeting/
LOCATION:Goldhill Police Station\, 955 West Moreno Ave.\, Colorado Springs\, CO\, 80905\, United States
END:VEVENT
BEGIN:VEVENT
DTSTART;TZID=America/Denver:20250827T183000
DTEND;TZID=America/Denver:20250827T200000
DTSTAMP:20260420T204833
CREATED:20250501T154216Z
LAST-MODIFIED:20250501T154216Z
UID:5275-1756319400-1756324800@ppvmcca.com
SUMMARY:Pizza Night
DESCRIPTION:Pizza nights at Filmore Pizza fourth Wednesdays 6:30 pm or as noted in future newsletters.
URL:https://ppvmcca.com/event/pizza-night-13/
LOCATION:Fillmore Pizza Kitchen\, 3150 N Chestnut St\, Colorado Springs\, CO\, 80907\, United States
END:VEVENT
BEGIN:VEVENT
DTSTART;TZID=America/Denver:20250816T080000
DTEND;TZID=America/Denver:20250816T170000
DTSTAMP:20260420T204833
CREATED:20250501T144854Z
LAST-MODIFIED:20250607T143020Z
UID:5265-1755331200-1755363600@ppvmcca.com
SUMMARY:Simpich Marionettes
DESCRIPTION:You have seen the Marionettes\, might even have one on the mantle. Now see the garage and Simpich character dolls.  At the Simpiches where they [all of them] are known to hang out.
URL:https://ppvmcca.com/event/simpich-marionettes/
END:VEVENT
BEGIN:VEVENT
DTSTART;TZID=America/Denver:20250809T103000
DTEND;TZID=America/Denver:20250809T140000
DTSTAMP:20260420T204833
CREATED:20250603T150203Z
LAST-MODIFIED:20250603T150203Z
UID:5334-1754735400-1754748000@ppvmcca.com
SUMMARY:Black Forest Parade
DESCRIPTION:Black Forest Parade – Saturday\, August 9th @ 10:30.  AJ Johnsen is the point of contact.
URL:https://ppvmcca.com/event/black-forest-parade-3/
END:VEVENT
BEGIN:VEVENT
DTSTART;TZID=America/Denver:20250802T080000
DTEND;TZID=America/Denver:20250802T170000
DTSTAMP:20260420T204833
CREATED:20250603T145607Z
LAST-MODIFIED:20250603T145607Z
UID:5331-1754121600-1754154000@ppvmcca.com
SUMMARY:Annual Club Picnic
DESCRIPTION:$5.00 per person. Payment must be made by July 24 –or bring your own chicken and drinks. \nContact Lavonne Thomas 719-633-6525\,\, or Elsie Collins at 719-634-2047\, .
URL:https://ppvmcca.com/event/annual-club-picnic/
END:VEVENT
BEGIN:VEVENT
DTSTART;TZID=America/Denver:20250723T183000
DTEND;TZID=America/Denver:20250723T200000
DTSTAMP:20260420T204833
CREATED:20250501T154121Z
LAST-MODIFIED:20250501T154121Z
UID:5273-1753295400-1753300800@ppvmcca.com
SUMMARY:Pizza Night
DESCRIPTION:Pizza nights at Filmore Pizza fourth Wednesdays 6:30 pm or as noted in future newsletters.
URL:https://ppvmcca.com/event/pizza-night-12/
LOCATION:Fillmore Pizza Kitchen\, 3150 N Chestnut St\, Colorado Springs\, CO\, 80907\, United States
END:VEVENT
BEGIN:VEVENT
DTSTART;TZID=America/Denver:20250713T080000
DTEND;TZID=America/Denver:20250713T170000
DTSTAMP:20260420T204833
CREATED:20250603T145333Z
LAST-MODIFIED:20250603T145333Z
UID:5329-1752393600-1752426000@ppvmcca.com
SUMMARY:El Paso County Car Show
DESCRIPTION:July 13 non PPVMCCA El Paso County Fair Car Show. Contact Samantha Baker 303-726-2826
URL:https://ppvmcca.com/event/el-paso-county-car-show/
END:VEVENT
BEGIN:VEVENT
DTSTART;TZID=America/Denver:20250711T190000
DTEND;TZID=America/Denver:20250711T220000
DTSTAMP:20260420T204833
CREATED:20250101T231800Z
LAST-MODIFIED:20250603T145137Z
UID:4488-1752260400-1752271200@ppvmcca.com
SUMMARY:Jul General Meeting
DESCRIPTION:CHANGE we will NOT meet at Gold Hill. Meeting will be at Rampart Supply – thanks to James Perry for the hospitality.
URL:https://ppvmcca.com/event/jul-general-meeting/
LOCATION:Rampart Supply\, 1801 N. Union\, Colo\, CO\, 80909\, United States
END:VEVENT
BEGIN:VEVENT
DTSTART;TZID=America/Denver:20250705T100000
DTEND;TZID=America/Denver:20250705T170000
DTSTAMP:20260420T204833
CREATED:20250501T144248Z
LAST-MODIFIED:20250603T144643Z
UID:5260-1751709600-1751734800@ppvmcca.com
SUMMARY:Rodeo Parade
DESCRIPTION:July 5\, Saturday – Pikes Peak or Bust Rodeo Parade. Staging will begin at 10:00 a.m. on Saturday\, July 5th. Check with Sandy Boese for details.
URL:https://ppvmcca.com/event/rodeo-parade-2/
END:VEVENT
BEGIN:VEVENT
DTSTART;TZID=America/Denver:20250704T080000
DTEND;TZID=America/Denver:20250704T170000
DTSTAMP:20260420T204833
CREATED:20250501T144113Z
LAST-MODIFIED:20250603T144038Z
UID:5258-1751616000-1751648400@ppvmcca.com
SUMMARY:WWII Aviation Museum
DESCRIPTION:National Museum of World War II Aviation annual July 4th celebration. Enjoy leisurely visits to all the displays\, check out the airplanes up close\, participate in any and all activities\, watch the antique aircraft soar! Contact Weldon Shaver\, club president\, if interested.
URL:https://ppvmcca.com/event/wwii-aviation-museum/
LOCATION:WW II Aviation Museum\, 775 Aviation Way\, Colorado Springs\, 80914\, United States
END:VEVENT
BEGIN:VEVENT
DTSTART;TZID=America/Denver:20250625T183000
DTEND;TZID=America/Denver:20250625T200000
DTSTAMP:20260420T204833
CREATED:20250501T153936Z
LAST-MODIFIED:20250501T153936Z
UID:5271-1750876200-1750881600@ppvmcca.com
SUMMARY:Pizza Night
DESCRIPTION:Pizza nights at Filmore Pizza fourth Wednesdays 6:30 pm or as noted in future newsletters.
URL:https://ppvmcca.com/event/pizza-night-11/
LOCATION:Fillmore Pizza Kitchen\, 3150 N Chestnut St\, Colorado Springs\, CO\, 80907\, United States
END:VEVENT
BEGIN:VEVENT
DTSTART;TZID=America/Denver:20250614T090000
DTEND;TZID=America/Denver:20250614T170000
DTSTAMP:20260420T204833
CREATED:20250603T144402Z
LAST-MODIFIED:20250603T144402Z
UID:5322-1749891600-1749920400@ppvmcca.com
SUMMARY:Flag Day Tour
DESCRIPTION:June 14 2025 Saturday FLAG DAY TOUR Meet 9:00 AM at southeast corner of Scheels parking lot on Interquest Parkway to visit a really nice car collection and share lunch at a darn good barbecue restaurant. We will traverse Highway 83 to Parker to join other car enthusiasts at the monthly “EXPRESSO and EXHAUST” event hosted by the VEHICLE VAULT CAR MUSEUM. This informal “car show” event features free coffee and half priced entry fees to the Museum. The Club will also augment the “coffee break” experience when we arrive at the site. After perusing the vehicles and memorabilia featured in the Museum\, we will adjourn to a nearby nationally awarded barbecue restaurant for lunch. We have enjoyed our previous visits to this\nrestaurant and the quality has not declined. The return to Colorado Springs will be at your choice\, however\, we will provide a couple of ideas in your direction sheet
URL:https://ppvmcca.com/event/flag-day-tour/
END:VEVENT
BEGIN:VEVENT
DTSTART;TZID=America/Denver:20250528T183000
DTEND;TZID=America/Denver:20250528T200000
DTSTAMP:20260420T204833
CREATED:20250501T153836Z
LAST-MODIFIED:20250501T153836Z
UID:5269-1748457000-1748462400@ppvmcca.com
SUMMARY:Pizza Night
DESCRIPTION:Pizza nights at Filmore Pizza fourth Wednesdays 6:30 pm or as noted in future newsletters.
URL:https://ppvmcca.com/event/pizza-night-10/
LOCATION:Fillmore Pizza Kitchen\, 3150 N Chestnut St\, Colorado Springs\, CO\, 80907\, United States
END:VEVENT
BEGIN:VEVENT
DTSTART;TZID=America/Denver:20250518T090000
DTEND;TZID=America/Denver:20250518T150000
DTSTAMP:20260420T204833
CREATED:20250501T154734Z
LAST-MODIFIED:20250501T154734Z
UID:5281-1747558800-1747580400@ppvmcca.com
SUMMARY:Florence Merchants' Association Car Show
DESCRIPTION:23rd Annual Florence Merchants’ Association\nCar Show! \nSunday\, May 18\, 2025 9:00AM–3:00PM \nFollow the link for info :\nhttps://florencecoloradocarshow.us1.list-manage.com/track/clicku=587fce17afdfecfa14bf1fd95&id=1a0daa6733&e=04743edc30
URL:https://ppvmcca.com/event/florence-merchants-association-car-show/
END:VEVENT
BEGIN:VEVENT
DTSTART;TZID=America/Denver:20250517T103000
DTEND;TZID=America/Denver:20250517T143000
DTSTAMP:20260420T204833
CREATED:20250501T153606Z
LAST-MODIFIED:20250501T153606Z
UID:5267-1747477800-1747492200@ppvmcca.com
SUMMARY:Mash Mechanix Spring Car Show
DESCRIPTION:Mash Mechanix Spring Car Show May 17 10:30—2:30 429 E. Pikes Peak Benefits El Paso County Search and Rescue. For Info follow the link and go down to May 17
URL:https://ppvmcca.com/event/mash-mechanix-spring-car-show/
END:VEVENT
BEGIN:VEVENT
DTSTART;TZID=America/Denver:20250517T090000
DTEND;TZID=America/Denver:20250517T150000
DTSTAMP:20260420T204833
CREATED:20250501T154947Z
LAST-MODIFIED:20250501T154947Z
UID:5283-1747472400-1747494000@ppvmcca.com
SUMMARY:Penrose VFW Car Show
DESCRIPTION:Car Show Penrose VFW.\nA day of fun with cars\, food and craft vendors\, live entertainment\, door prizes\, cash awards and more to support Post 2788 in their mission. Funds raised will go specifically toward the Homeless Veterans Relief Fund. \nSaturday May 17th\, 2025\, 9AM – 3PM\nLocation: VFW Post 2788\n402 Broadway St Penrose\, CO 81240\nMore info:\n\nJust Look: Free Entry Fee: $35 – all profits\ngo to VFW Post 2788 relief fund for\nhomeless veterans.
URL:https://ppvmcca.com/event/penrose-vfw-car-show/
END:VEVENT
BEGIN:VEVENT
DTSTART;TZID=America/Denver:20250515T110000
DTEND;TZID=America/Denver:20250515T170000
DTSTAMP:20260420T204833
CREATED:20250501T143904Z
LAST-MODIFIED:20250501T143904Z
UID:5256-1747306800-1747328400@ppvmcca.com
SUMMARY:Lunch and Tour of Goodwill Industries
DESCRIPTION:Meet at 11:00 a.m. for lunch at Aspen American Bar and Grill\, 2540 Tenderfoot Hill. 12:45 – start our leisurely driving tour on the scenic westside of town. Approx. 1:30 arrive at Goodwill Industries\, 1460 Garden of the Gods Road where we will display our cars for their clients and staff and Kristin [presenter at our May 9th meeting] will lead a tour through their facility and tell us more about the program. Josh and John’s ice cream truck [hope it does not melt] should be available until about 3:00pm!
URL:https://ppvmcca.com/event/lunch-and-tour-of-goodwill-industries/
END:VEVENT
BEGIN:VEVENT
DTSTART;TZID=America/Denver:20250509T190000
DTEND;TZID=America/Denver:20250509T220000
DTSTAMP:20260420T204833
CREATED:20250101T231657Z
LAST-MODIFIED:20250501T143651Z
UID:4486-1746817200-1746828000@ppvmcca.com
SUMMARY:May General Meeting
DESCRIPTION:Program: Goodwill Colorado Programs and Services\, Kristin\nAmundson will present.
URL:https://ppvmcca.com/event/may-general-meeting/
LOCATION:Goldhill Police Station\, 955 West Moreno Ave.\, Colorado Springs\, CO\, 80905\, United States
END:VEVENT
BEGIN:VEVENT
DTSTART;TZID=America/Denver:20250411T190000
DTEND;TZID=America/Denver:20250411T220000
DTSTAMP:20260420T204833
CREATED:20250101T231605Z
LAST-MODIFIED:20250101T231605Z
UID:4484-1744398000-1744408800@ppvmcca.com
SUMMARY:Apr General Meeting
DESCRIPTION:
URL:https://ppvmcca.com/event/apr-general-meeting/
LOCATION:Goldhill Police Station\, 955 West Moreno Ave.\, Colorado Springs\, CO\, 80905\, United States
END:VEVENT
BEGIN:VEVENT
DTSTART;TZID=America/Denver:20250314T180000
DTEND;TZID=America/Denver:20250314T220000
DTSTAMP:20260420T204833
CREATED:20250101T231507Z
LAST-MODIFIED:20250310T201328Z
UID:4482-1741975200-1741989600@ppvmcca.com
SUMMARY:Mar General Meeting
DESCRIPTION:Club potluck.  Bring a dish to share.  More details in the newsletter.
URL:https://ppvmcca.com/event/mar-general-meeting/
LOCATION:Good Shepherd United Methodist Church\, 1201 Leta Drive\, Colorado Springs\, CO\, 80911\, United States
END:VEVENT
BEGIN:VEVENT
DTSTART;TZID=America/Denver:20250225T063000
DTEND;TZID=America/Denver:20250225T200000
DTSTAMP:20260420T204833
CREATED:20250104T234846Z
LAST-MODIFIED:20250104T234846Z
UID:4574-1740465000-1740513600@ppvmcca.com
SUMMARY:Pizza Night
DESCRIPTION:
URL:https://ppvmcca.com/event/pizza-night-9/
LOCATION:Fillmore Pizza Kitchen\, 3150 N Chestnut St\, Colorado Springs\, CO\, 80907\, United States
END:VEVENT
BEGIN:VEVENT
DTSTART;TZID=America/Denver:20250122T183000
DTEND;TZID=America/Denver:20250122T200000
DTSTAMP:20260420T204833
CREATED:20250101T232653Z
LAST-MODIFIED:20250101T232653Z
UID:4496-1737570600-1737576000@ppvmcca.com
SUMMARY:Pizza Night
DESCRIPTION:
URL:https://ppvmcca.com/event/pizza-night-8/
LOCATION:Fillmore Pizza Kitchen\, 3150 N Chestnut St\, Colorado Springs\, CO\, 80907\, United States
END:VEVENT
BEGIN:VEVENT
DTSTART;TZID=America/Denver:20250116T140000
DTEND;TZID=America/Denver:20250116T150000
DTSTAMP:20260420T204833
CREATED:20250113T005218Z
LAST-MODIFIED:20250113T005218Z
UID:4648-1737036000-1737039600@ppvmcca.com
SUMMARY:DC Hayes Memorial Service
DESCRIPTION:It is with heavy hearts that we announce the passing of (retired) 1SG Dethanial Charles “DC” Hayes\, a devoted husband\, father\, grandfather\, great-grandfather\, friend\, and decorated military veteran. DC passed away at the age of 89 after bravely battling cancer\, leaving behind a legacy of service\, love\, and passion for life.\nBorn on June 11\, 1935\, in Chandler\, Arizona\, to Cottrell (Buddy) Hayes and Lucy (Croley) Hayes\, DC was the eldest of their four children. He spent his early years with brief stints in Chandler\, Arizona; Frisco\, Texas; and Home Gardens and Chino\, California\, before his family settled on their farm in Silo\, Oklahoma\, in 1944. DC’s childhood was filled with adventures and treasured memories shared with his many Croley cousins while attending elementary school at the old Silo Schoolhouse. He then attended Mead School for 9th and 10th grades and graduated from Cobb High School in 1953.\nAfter graduation\, DC briefly worked in Dallas\, Texas\, before joining the Air National Guard. His service led him to Denver\, Colorado\, where he worked at Buckley Air Force Base. In 1958\, DC was drafted into the U.S. Army\, beginning a remarkable military career. During basic training at Fort Hood\, he trained only three barracks away from Elvis Presley. DC was later stationed in Germany\, where he met and married the love of his life\, Rosemarie Agnes Ida (Paul) Hayes.\nDC served with distinction during his military career\, including a tour in Vietnam from 1968 to 1969 as a Tank Crewman\, where he was wounded in action. He retired after over 25 years of service as a First Sergeant (1SG) at Fort Carson\, Colorado.\nDC’s service was recognized with numerous awards and decorations\, including the Bronze Star Medal\, Purple Heart\, Army Commendation Medal\, Army Good Conduct Medal 1-6\, National Defense Service Medal\, Army Service Ribbon\, NCO Development Ribbon\, Vietnam Service Medal with 4 Bronze Service Stars\, Vietnam Campaign Medal with 60 Device\, Valorous Unit Award\, Army Presidential Unit Citation\, Vietnam Cross of Gallantry\, and Combat Infantryman Badge.\nAfter retiring from the Army\, DC continued working with the same passion and dedication he showed in his military career. He graduated with his Associate’s degree in Business Administration from National College. Then\, he worked as a mechanic at PacLease and Springs Truck Center\, later transitioning to part-time work as an order picker at Walter Drake. As a skilled craftsman\, he spent much of his free time rebuilding motors and sharing his mechanical expertise with others.\nHis passion for restoring vintage cars led him to become an active member of the Pikes Peak Vintage Motor Car Club of America\, where he showcased his beloved ’69 Oldsmobile and ’48 Chevrolet\, sharing his love of classic automobiles with the community.\nDC’s strong opinions and quick wit made him unforgettable to all who knew him. He never met a stranger.\nDC is survived by his wife of 60 years\, Rosemarie Hayes; his children\, Debra (Ron) Weiss\, Brenda Robinson\, CK “Cotty” (Sherrey Heisler) Hayes\, Birgitt (John) Betts\, Petra (William) Nagel\, and Richard (Supansa) Hayes; his grandchildren\, Katrina (Kevin) Pool\, Miranda (Carolyn) Weiss\, Lina (Mark) Betts-Shaw\, Eric (Jessica) James\, Michael (Brianna) Nagel\, Autumn (Derk) Miller\, and Derek (Shelby) Nagel; 14 great-grandchildren; and his siblings\, Billy Ralph (Annette) Hayes\, Linda Ruth Hayes-Litke\, and Ronnie (Vali) Hayes. DC was preceded in death by his parents\, Cottrell and Lucy Hayes.\nA service to honor and celebrate DC’s life will be held on Thursday\, January 16th at 2:00 PM at Pikes Peak National Cemetery\, 10545 Drennan Road\, Colorado Springs\, CO 80925. A viewing will take place earlier that day at 12:00 PM at All Veterans Funeral Home\, 1020 East Filmore Street\, Colorado Springs\, CO 80907. Following the funeral\, we invite family and friends to join us for a celebration of life from 3:30 PM to 6:30 PM at Veterans of Foreign Wars Post 4051 (VFW)\, 6523 N Academy Blvd\, Colorado Springs\, CO 80918\, where refreshments will be served.\nHis legacy of service\, love\, and passion will continue to inspire all who knew him\, and his memory will live on in the hearts of his family and friends.
URL:https://ppvmcca.com/event/dc-hayes-memorial-service/
LOCATION:Pikes Peak National Cemetary\, 10545 Drennan Road\, Colorado Springs\, CO\, 80925\, United States
END:VEVENT
BEGIN:VEVENT
DTSTART;TZID=America/Denver:20250110T190000
DTEND;TZID=America/Denver:20250110T220000
DTSTAMP:20260420T204833
CREATED:20250101T231410Z
LAST-MODIFIED:20250101T232844Z
UID:4480-1736535600-1736546400@ppvmcca.com
SUMMARY:Jan General Meeting
DESCRIPTION:January Program will be on historical buildings and happenings presented\nby Tim Scanlon\, a retired city planner and active city historian with the Historical Society.
URL:https://ppvmcca.com/event/jan-general-meeting/
LOCATION:Goldhill Police Station\, 955 West Moreno Ave.\, Colorado Springs\, CO\, 80905\, United States
END:VEVENT
END:VCALENDAR