BEGIN:VCALENDAR
VERSION:2.0
PRODID:-//Pikes Peak VMCCA - ECPv6.15.20//NONSGML v1.0//EN
CALSCALE:GREGORIAN
METHOD:PUBLISH
X-WR-CALNAME:Pikes Peak VMCCA
X-ORIGINAL-URL:https://ppvmcca.com
X-WR-CALDESC:Events for Pikes Peak VMCCA
REFRESH-INTERVAL;VALUE=DURATION:PT1H
X-Robots-Tag:noindex
X-PUBLISHED-TTL:PT1H
BEGIN:VTIMEZONE
TZID:UTC
BEGIN:STANDARD
TZOFFSETFROM:+0000
TZOFFSETTO:+0000
TZNAME:UTC
DTSTART:20220101T000000
END:STANDARD
END:VTIMEZONE
BEGIN:VEVENT
DTSTART;TZID=UTC:20231110T190000
DTEND;TZID=UTC:20231110T210000
DTSTAMP:20260420T180612
CREATED:20230225T040649Z
LAST-MODIFIED:20231109T123010Z
UID:585-1699642800-1699650000@ppvmcca.com
SUMMARY:General Membership Meeting
DESCRIPTION:Pie Night!  Bring your favorite pie to share!
URL:https://ppvmcca.com/event/general-membership-meeting-4/
LOCATION:Goldhill Police Station\, 955 West Moreno Ave.\, Colorado Springs\, CO\, 80905\, United States
CATEGORIES:Meetings
END:VEVENT
BEGIN:VEVENT
DTSTART;TZID=UTC:20231013T193000
DTEND;TZID=UTC:20231013T210000
DTSTAMP:20260420T180612
CREATED:20230225T040758Z
LAST-MODIFIED:20230225T040907Z
UID:587-1697225400-1697230800@ppvmcca.com
SUMMARY:General Membership Meeting
DESCRIPTION:
URL:https://ppvmcca.com/event/general-membership-meeting-5/
LOCATION:Goldhill Police Station\, 955 West Moreno Ave.\, Colorado Springs\, CO\, 80905\, United States
CATEGORIES:Meetings
END:VEVENT
BEGIN:VEVENT
DTSTART;TZID=UTC:20230908T193000
DTEND;TZID=UTC:20230908T210000
DTSTAMP:20260420T180612
CREATED:20230225T034653Z
LAST-MODIFIED:20230225T040915Z
UID:583-1694201400-1694206800@ppvmcca.com
SUMMARY:General Membership Meeting
DESCRIPTION:
URL:https://ppvmcca.com/event/general-membership-meeting-3/
LOCATION:Goldhill Police Station\, 955 West Moreno Ave.\, Colorado Springs\, CO\, 80905\, United States
CATEGORIES:Meetings
END:VEVENT
BEGIN:VEVENT
DTSTART;TZID=UTC:20230714T193000
DTEND;TZID=UTC:20230714T210000
DTSTAMP:20260420T180612
CREATED:20230225T034539Z
LAST-MODIFIED:20230225T041116Z
UID:581-1689363000-1689368400@ppvmcca.com
SUMMARY:General Membership Meeting
DESCRIPTION:
URL:https://ppvmcca.com/event/generall-membership-meeting/
LOCATION:Goldhill Police Station\, 955 West Moreno Ave.\, Colorado Springs\, CO\, 80905\, United States
CATEGORIES:Meetings
END:VEVENT
BEGIN:VEVENT
DTSTART;TZID=UTC:20230512T193000
DTEND;TZID=UTC:20230512T210000
DTSTAMP:20260420T180612
CREATED:20230225T034446Z
LAST-MODIFIED:20230225T040930Z
UID:579-1683919800-1683925200@ppvmcca.com
SUMMARY:General Membership Meeting
DESCRIPTION:
URL:https://ppvmcca.com/event/general-membership-meeting-2/
LOCATION:Goldhill Police Station\, 955 West Moreno Ave.\, Colorado Springs\, CO\, 80905\, United States
CATEGORIES:Meetings
END:VEVENT
BEGIN:VEVENT
DTSTART;TZID=UTC:20230414T193000
DTEND;TZID=UTC:20230414T210000
DTSTAMP:20260420T180612
CREATED:20230225T034253Z
LAST-MODIFIED:20230225T040939Z
UID:577-1681500600-1681506000@ppvmcca.com
SUMMARY:General Membership Meeting
DESCRIPTION:
URL:https://ppvmcca.com/event/general-membership-meeting/
LOCATION:Goldhill Police Station\, 955 West Moreno Ave.\, Colorado Springs\, CO\, 80905\, United States
CATEGORIES:Meetings
END:VEVENT
END:VCALENDAR