BEGIN:VCALENDAR
VERSION:2.0
PRODID:-//Pikes Peak VMCCA - ECPv6.15.20//NONSGML v1.0//EN
CALSCALE:GREGORIAN
METHOD:PUBLISH
X-WR-CALNAME:Pikes Peak VMCCA
X-ORIGINAL-URL:https://ppvmcca.com
X-WR-CALDESC:Events for Pikes Peak VMCCA
REFRESH-INTERVAL;VALUE=DURATION:PT1H
X-Robots-Tag:noindex
X-PUBLISHED-TTL:PT1H
BEGIN:VTIMEZONE
TZID:America/Denver
BEGIN:DAYLIGHT
TZOFFSETFROM:-0700
TZOFFSETTO:-0600
TZNAME:MDT
DTSTART:20230312T090000
END:DAYLIGHT
BEGIN:STANDARD
TZOFFSETFROM:-0600
TZOFFSETTO:-0700
TZNAME:MST
DTSTART:20231105T080000
END:STANDARD
BEGIN:DAYLIGHT
TZOFFSETFROM:-0700
TZOFFSETTO:-0600
TZNAME:MDT
DTSTART:20240310T090000
END:DAYLIGHT
BEGIN:STANDARD
TZOFFSETFROM:-0600
TZOFFSETTO:-0700
TZNAME:MST
DTSTART:20241103T080000
END:STANDARD
BEGIN:DAYLIGHT
TZOFFSETFROM:-0700
TZOFFSETTO:-0600
TZNAME:MDT
DTSTART:20250309T090000
END:DAYLIGHT
BEGIN:STANDARD
TZOFFSETFROM:-0600
TZOFFSETTO:-0700
TZNAME:MST
DTSTART:20251102T080000
END:STANDARD
END:VTIMEZONE
BEGIN:VEVENT
DTSTART;TZID=America/Denver:20240208T080000
DTEND;TZID=America/Denver:20240214T170000
DTSTAMP:20260421T183551
CREATED:20230925T203306Z
LAST-MODIFIED:20230925T203306Z
UID:1085-1707379200-1707930000@ppvmcca.com
SUMMARY:National VMCCA Annual Membership Meeting and Cruise
DESCRIPTION:Cuise leaves Tampa Bay\, FL for Cozumel Mexico. \nDetails in the Bulb Horn.
URL:https://ppvmcca.com/event/national-vmcca-annual-membership-meeting-and-cruise/
END:VEVENT
END:VCALENDAR