BEGIN:VCALENDAR
VERSION:2.0
PRODID:-//Pikes Peak VMCCA - ECPv6.15.20//NONSGML v1.0//EN
CALSCALE:GREGORIAN
METHOD:PUBLISH
X-WR-CALNAME:Pikes Peak VMCCA
X-ORIGINAL-URL:https://ppvmcca.com
X-WR-CALDESC:Events for Pikes Peak VMCCA
REFRESH-INTERVAL;VALUE=DURATION:PT1H
X-Robots-Tag:noindex
X-PUBLISHED-TTL:PT1H
BEGIN:VTIMEZONE
TZID:UTC
BEGIN:STANDARD
TZOFFSETFROM:+0000
TZOFFSETTO:+0000
TZNAME:UTC
DTSTART:20220101T000000
END:STANDARD
END:VTIMEZONE
BEGIN:VEVENT
DTSTART;TZID=UTC:20230704T080000
DTEND;TZID=UTC:20230704T170000
DTSTAMP:20260422T051332
CREATED:20230601T201008Z
LAST-MODIFIED:20230601T201008Z
UID:858-1688457600-1688490000@ppvmcca.com
SUMMARY:Static Car Display at the WWII Aviation Museum
DESCRIPTION:Date:  4 July (Tuesday) 2023\nDoors open to public:  10:00 AM\nCars arrive:  8:00AM \nWe will be parked among the aircraft as we were last year.  There will be at least one food truck\, maybe more\, on site.  The event will end around 4:00PM\, but\, as happened last year\, cars can leave earlier if the driver wishes. \nContact John King to sign up – king2820@comcast.net
URL:https://ppvmcca.com/event/static-car-display-at-the-wwii-aviation-museum/
END:VEVENT
END:VCALENDAR